Workbook

Sheet Instructions
B2: Hospital ED Leading Practices Self-Assessment Guide
B4: Objectives and Instructions for Completing the Self Assessment
B5: Objective The ED Self-Assessment Guide is for hospital and ED leadership to complete in order to assess current strategies related to Foundational Leading Practices and Functional Themes that are in place to address and improve ED throughput and encourage planning the next steps for continuous improvement. Foundational Themes These strategies are essential for every organization to prioritize to set the stage for the implementation of any initiative that may affect a positive change in ED patient flow. Because of this, all strategies under foundational leading practices are categorized as Universal, meaning that all 163 EDs should be applying and assessing these strategies. Functional Themes These themes have been identified as core building blocks throughout every step of the patient journey to support effective patient flow and safety. Key processes in the patient journey are identified in tabs below, numbered 1 through 5. The strategies within the patient journey are organized according to functional themes. To help guide organizations in understanding and prioritizing the implementation of strategies; based on identified impact, value to the organization and available resources; strategies have been categorized in Column D as Universal, Intermediate or Advanced. Universal Strategies are to be applied and assessed at all 163 EDs. Intermediate Strategies are implemented to build upon universal strategies. Advanced Strategies are those that EDs should review for implementation when all universal and intermediate strategies are in place and further innovation is sought. Details regarding the assessment of strategies will be communicated through your OH Region. Instructions for Use 1. Use the tabs located at the bottom of the sheet to navigate through the sheets. 2. For each tab, review the strategies in Column C. 3. For each Universal strategy, you must indicate if it has been Achieved, if it is In Progress, or if the strategy remains as an Opportunity for Improvement. Select one of these options from the drop-down menu in Column E. 4. OH Regions will advise hospital and ED leadership if it is required to assess against Intermediate or Advanced strategies. 5. OH Regions will also advise hospital and ED leadership if Action Planning and Timelines are required for completion. Dashboard The Self-Assessment Guide Dashboard is located in the second tab. For optimal use of the dashboard, all strategies for a particular category (Universal, Intermediate or Advanced) must be assessed and identified as either Achieved, In Progress, or Opportunity for Improvement. Attestation A site will be notified by OH Regions if the attestation tab is required to be completed. Example: Tab 3. Physician Initial Assessment
B13: # | C13: Strategy | D13: Category | E13: Achieved, In Progress or Opportunity for Improvement | F13: Action Planning | G13: Timelines What are the associated timelines for meeting the key activities to achieve the strategy?
B14: Optimizing Physical Space Design and Queuing Systems
B15: 3.1 | C15: Spaces in addition to stretchers (e.g., traditional chairs, reclining chairs) are used for patient assessment | D15: Universal | E15: Achieved
B16: 3.2 | C16: An area of the waiting room is designated for patient assessment and privacy is maintained using privacy screens or physical barriers | D16: Universal | E16: In Progress
B17: 3.3 | C17: Patients are streamlined to designated areas of the ED based on acuity and/or presentation (e.g., fast track zone, rapid assessment zone) | D17: Universal | E17: Opportunity for Improvement

Sheet Dashboard
C3: Self Assessment Guide Dashboard
C6: Overview
C8: Total Universal Strategies Achieved | H8: Total Intermediate Strategies Achieved | M8: Total Advanced Strategies Achieved
C9: =SUM(G16,D60,I60,O60,F87,L87) -> 0 | H9: =SUM(E60,J60,P60,G87,M87) -> 0 | O9: =SUM(F60,K60,Q60,H87,N87) -> 0
C10: Out of 125 | H10: Out of 36 | O10: Out of 10
C13: Foundational Strategies
F15: Foundational Strategies
F16: Achieved | G16: =COUNTIF('0. Foundational'!E4:E58,"Achieved") -> 0
F17: In Progress | G17: =COUNTIF('0. Foundational'!E4:E58,"In Progress") -> 0
F18: Opportunity for Improvement | G18: =COUNTIF('0. Foundational'!E4:E58,"Opportunity for Improvement") -> 0
C39: Functional Strategies According to Patient Journey Point & Process
C58: 1. Ambulance Arrival and Offload | H58: 2. Triage & Registration | N58: 3. Physician Initial Assessment
D59: Universal | E59: Intermediate | F59: Advanced | I59: Universal | J59: Intermediate | K59: Advanced | O59: Universal | P59: Intermediate | Q59: Advanced
C60: Achieved | D60: =COUNTIFS('1. Ambulance Arrival & Offload'!D6:D32,"=Universal",'1. Ambulance Arrival & Offload'!E6:E32,"=Achieved") -> 0 | E60: =COUNTIFS('1. Ambulance Arrival & Offload'!D6:D32,"=Intermediate",'1. Ambulance Arrival & Offload'!E6:E32,"=Achieved") -> 0 | F60: =COUNTIFS('1. Ambulance Arrival & Offload'!D6:D32,"=Advanced",'1. Ambulance Arrival & Offload'!E6:E32,"=Achieved") -> 0 | H60: Achieved | I60: =COUNTIFS('2. Triage & Registration'!D6:D29,"=Universal",'2. Triage & Registration'!E6:E29,"=Achieved") -> 0 | J60: =COUNTIFS('2. Triage & Registration'!D6:D29,"=Intermediate",'2. Triage & Registration'!E6:E29,"=Achieved") -> 0 | K60: =COUNTIFS('2. Triage & Registration'!D6:D29,"=Advanced",'2. Triage & Registration'!E6:E29,"=Achieved") -> 0 | N60: Achieved | O60: =COUNTIFS('3. Physician Initial Assessment'!D6:D30,"=Universal",'3. Physician Initial Assessment'!E6:E30,"=Achieved") -> 0 | P60: =COUNTIFS('3. Physician Initial Assessment'!D6:D30,"=Intermediate",'3. Physician Initial Assessment'!E6:E30,"=Achieved") -> 0 | Q60: =COUNTIFS('3. Physician Initial Assessment'!D6:D30,"=Advanced",'3. Physician Initial Assessment'!E6:E30,"=Achieved") -> 0
C61: In Progress | D61: =COUNTIFS('1. Ambulance Arrival & Offload'!D6:D32,"=Universal",'1. Ambulance Arrival & Offload'!E6:E32,"=In Progress") -> 0 | E61: =COUNTIFS('1. Ambulance Arrival & Offload'!D6:D32,"=Intermediate",'1. Ambulance Arrival & Offload'!E6:E32,"=In Progress") -> 0 | F61: =COUNTIFS('1. Ambulance Arrival & Offload'!D6:D32,"=Advanced",'1. Ambulance Arrival & Offload'!E6:E32,"=In Progress") -> 0 | H61: In Progress | I61: =COUNTIFS('2. Triage & Registration'!D6:D29,"=Universal",'2. Triage & Registration'!E6:E29,"=In Progress") -> 0 | J61: =COUNTIFS('2. Triage & Registration'!D6:D29,"=Intermediate",'2. Triage & Registration'!E6:E29,"=In Progress") -> 0 | K61: =COUNTIFS('2. Triage & Registration'!D6:D29,"=Advanced",'2. Triage & Registration'!E6:E29,"=In Progress") -> 0 | N61: In Progress | O61: =COUNTIFS('3. Physician Initial Assessment'!D6:D30,"=Universal",'3. Physician Initial Assessment'!E6:E30,"=In Progress") -> 0 | P61: =COUNTIFS('3. Physician Initial Assessment'!D6:D30,"=Intermediate",'3. Physician Initial Assessment'!E6:E30,"=In Progress") -> 0 | Q61: =COUNTIFS('3. Physician Initial Assessment'!D6:D30,"=Advanced",'3. Physician Initial Assessment'!E6:E30,"=In Progress") -> 0
C62: Opportunity for Improvement | D62: =COUNTIFS('1. Ambulance Arrival & Offload'!D6:D32,"=Universal",'1. Ambulance Arrival & Offload'!E6:E32,"=Opportunity for Improvement") -> 0 | E62: =COUNTIFS('1. Ambulance Arrival & Offload'!D6:D32,"=Intermediate",'1. Ambulance Arrival & Offload'!E6:E32,"=Opportunity for Improvement") -> 0 | F62: =COUNTIFS('1. Ambulance Arrival & Offload'!D6:D32,"=Advanced",'1. Ambulance Arrival & Offload'!E6:E32,"=Opportunity for Improvement") -> 0 | H62: Opportunity for Improvement | I62: =COUNTIFS('2. Triage & Registration'!D6:D29,"=Universal",'2. Triage & Registration'!E6:E29,"=Opportunity for Improvement") -> 0 | J62: =COUNTIFS('2. Triage & Registration'!D6:D29,"=Intermediate",'2. Triage & Registration'!E6:E29,"=Opportunity for Improvement") -> 0 | K62: =COUNTIFS('2. Triage & Registration'!D6:D29,"=Advanced",'2. Triage & Registration'!E6:E29,"=Opportunity for Improvement") -> 0 | N62: Opportunity for Improvement | O62: =COUNTIFS('3. Physician Initial Assessment'!D6:D30,"=Universal",'3. Physician Initial Assessment'!E6:E30,"=Opportunity for Improvement") -> 0 | P62: =COUNTIFS('3. Physician Initial Assessment'!D6:D30,"=Intermediate",'3. Physician Initial Assessment'!E6:E30,"=Opportunity for Improvement") -> 0 | Q62: =COUNTIFS('3. Physician Initial Assessment'!D6:D30,"=Advanced",'3. Physician Initial Assessment'!E6:E30,"=Opportunity for Improvement") -> 0
D85: 4. Lab, DI & Consult Services | J85: 5. Time Spent in ED
F86: Universal | G86: Intermediate | H86: Advanced | L86: Universal | M86: Intermediate | N86: Advanced
D87: Achieved | F87: =COUNTIFS('4. Lab, DI & Consults'!D5:D29,"=Universal",'4. Lab, DI & Consults'!E5:E29,"=Achieved") -> 0 | G87: =COUNTIFS('4. Lab, DI & Consults'!D5:D29,"=Intermediate",'4. Lab, DI & Consults'!E5:E29,"=Achieved") -> 0 | H87: =COUNTIFS('4. Lab, DI & Consults'!D5:D29,"=Advanced",'4. Lab, DI & Consults'!E5:E29,"=Achieved") -> 0 | J87: Achieved | L87: =COUNTIFS('5. Time Spent in ED'!D7:D55,"=Universal",'5. Time Spent in ED'!E7:E55,"=Achieved") -> 0 | M87: =COUNTIFS('5. Time Spent in ED'!D7:D55,"=Intermediate",'5. Time Spent in ED'!E7:E55,"=Achieved") -> 0 | N87: =COUNTIFS('5. Time Spent in ED'!D7:D55,"=Advanced",'5. Time Spent in ED'!E7:E55,"=Achieved") -> 0
D88: In Progress | F88: =COUNTIFS('4. Lab, DI & Consults'!D5:D29,"=Universal",'4. Lab, DI & Consults'!E5:E29,"=In Progress") -> 0 | G88: =COUNTIFS('4. Lab, DI & Consults'!D5:D29,"=Intermediate",'4. Lab, DI & Consults'!E5:E29,"=In Progress") -> 0 | H88: =COUNTIFS('4. Lab, DI & Consults'!D5:D29,"=Advanced",'4. Lab, DI & Consults'!E5:E29,"=In Progress") -> 0 | J88: In Progress | L88: =COUNTIFS('5. Time Spent in ED'!D7:D55,"=Universal",'5. Time Spent in ED'!E7:E55,"=In Progress") -> 0 | M88: =COUNTIFS('5. Time Spent in ED'!D7:D55,"=Intermediate",'5. Time Spent in ED'!E7:E55,"=In Progress") -> 0 | N88: =COUNTIFS('5. Time Spent in ED'!D7:D55,"=Advanced",'5. Time Spent in ED'!E7:E55,"=In Progress") -> 0
D89: Opportunity for Improvement | F89: =COUNTIFS('4. Lab, DI & Consults'!D5:D29,"=Universal",'4. Lab, DI & Consults'!E5:E29,"=Opportunity for Improvement") -> 0 | G89: =COUNTIFS('4. Lab, DI & Consults'!D5:D29,"=Intermediate",'4. Lab, DI & Consults'!E5:E29,"=Opportunity for Improvement") -> 0 | H89: =COUNTIFS('4. Lab, DI & Consults'!D5:D29,"=Advanced",'4. Lab, DI & Consults'!E5:E29,"=Opportunity for Improvement") -> 0 | J89: Opportunity for Improvement | L89: =COUNTIFS('5. Time Spent in ED'!D7:D55,"=Universal",'5. Time Spent in ED'!E7:E55,"=Opportunity for Improvement") -> 0 | M89: =COUNTIFS('5. Time Spent in ED'!D7:D55,"=Intermediate",'5. Time Spent in ED'!E7:E55,"=Opportunity for Improvement") -> 0 | N89: =COUNTIFS('5. Time Spent in ED'!D7:D55,"=Advanced",'5. Time Spent in ED'!E7:E55,"=Opportunity for Improvement") -> 0

Sheet 0. Foundational
B2: Foundational Leading Practices
B4: # | C4: Strategy | D4: Category | E4: Achieved, In Progress or Opportunity for Improvement | F4: Action Planning | G4: Timelines What is the estimation of the time required to achieve the strategy?
B5: Theme 1: Organizational Culture and Leadership
B6: Prioritize optimal patient flow across all levels of the organization
B7: 0.1 | C7: An organizational governance structure is in place that defines the authority, responsibilities and accountabilities at all levels of leadership and frontline staff as it relates to ED performance and flow | D7: Universal
B8: 0.2 | C8: All levels of organizational leadership are aware of individual accountabilities and responsibilities related to ED performance and flow and this is documented and available internally | D8: Universal
B9: 0.3 | C9: Senior organizational leaders regularly access the OH Hospital/ED Performance Scorecard and use the data to inform performance discussions and develop improvement strategies | D9: Universal
B10: 0.4 | C10: Senior organizational leaders use additional available data related to ED flow performance daily/weekly/monthly to measure, monitor and inform decision making | D10: Universal
B11: 0.5 | C11: Senior organizational leaders demonstrate commitment to presence and visibility in the ED and strive to do regular walk-throughs of the ED to liaise with ED leadership and frontline staff | D11: Universal
B12: 0.6 | C12: A regular forum exists, established and chaired by senior organizational leadership, to allow discussions across the organization with respectful to hospital performance and ED performance is a standing agenda item | D12: Universal
B13: Foster a culture of continuous quality improvement and innovation across the organization
B14: 0.7 | C14: Organizational leaders are allotted protected time and opportunities to participate in learning and development and/or educational seminars that relate to ED performance and flow and quality improvement | D14: Universal
B15: 0.8 | C15: A forum exists between organizational leadership and ED leadership to review ED specific performance challenges and opportunities | D15: Universal
B16: 0.9 | C16: A forum exists for teams to socialize and review performance data | D16: Universal
B17: 0.1 | C17: A clear change management framework for performance improvement is in place to engage staff, manage resistance and promote success | D17: Universal
B18: Theme 2: Building a High-Performing Culture in ED
B19: ED leaders create and inspire a shared vision with respect to ED flow and performance and continuously promote and share this vision
B20: 0.11 | C20: A forum exists for frontline staff to collaborate with ED leadership in defining goals related to ED performance including daily huddles and/or regular staff meetings | D20: Universal
B21: 0.12 | C21: Clear messaging is available to frontline staff linking the shared vision to intrinsic motivators which improves commitment to the vision | D21: Universal
B22: 0.13 | C22: Team success and positive feedback are shared through various forums to illustrate the shared vision in action (e.g., huddle, bulletin board, newsletter) and include specific data related to ED flow and performance | D22: Universal
B23: 0.14 | C23: Daily huddles between ED leadership and frontline staff are used as an opportunity to reinforce the vision, share data related to ED performance and flow, understand challenges and collaborate with staff on solutions | D23: Universal
B24: 0.15 | C24: Bulletin boards are used in the ED to contentiously promote the vision of improved ED flow and performance and share data with frontline staff | D24: Universal
B25: 0.16 | C25: Internal newsletters are distributed to frontline staff to communicate information related to ED flow and performance | D25: Universal
B26: 0.17 | C26: A unit-based council with protected time is in place as a forum for frontline staff engagement | D26: Universal
B27: 0.18 | C27: Onboarding and orientation programs for new staff includes information and messaging related to the importance of ED flow and performance, key performance indicators, and the impact that frontline staff have on ED metrics | D27: Universal
B28: ED leaders build a culture of psychology safety in the ED
B29: 0.19 | C29: ED leaders are regularly visible on the frontline and actively support staff in the moment and address real-time challenges | D29: Universal
B30: 0.2 | C30: ED leaders have completed training related to building psychological safety in the workplace | D30: Universal
B31: 0.21 | C31: ED leaders maintain an open door policy | D31: Universal
B32: 0.22 | C32: Frontline staff have a forum to provide input and feedback which is regularly reviewed and addressed | D32: Universal
B33: Foster a culture of continuous quality improvement and innovation in the ED
B34: 0.23 | C34: Frontline staff have completed learning and development courses and/or educational seminars related to quality improvement principles (e.g., Lean) | D34: Universal
B35: 0.24 | C35: Frontline staff are included in and have protected time to participate in quality improvement events | D35: Universal
B36: 0.25 | C36: A forum exists for frontline staff to share quality improvement ideas | D36: Universal
B37: 0.26 | C37: A change management framework exists to support frontline staff through all changes as a result of quality improvement initiatives | D37: Universal
B38: Theme 3: Data-Drive Decision Making
B39: Implement a balanced scorecard to provide continuous feedback to senior management on outcomes
B40: 0.27 | C40: The balanced scorecard is regularly used to support performance discussions around ED key performance indicators | D40: Universal
B41: 0.28 | C41: Dashboards are used to monitor flow in real-time to ensure decision making is based on appropriate data and immediate action can be taken | D41: Universal
B42: Develop processes around ongoing data review, data quality analysis and sharing data to inform process improvements
...

Sheet 1. Ambulance Arrival & Offload
B2: 1. Ambulance Arrival and Offload
B4: # | C4: Strategy | D4: Category | E4: Achieved, In Progress or Opportunity for Improvement | F4: Action Planning | G4: Timelines What are the associated timelines for meeting the key activities to achieve the strategy?
B5: Optimizing Physical Space Design and Queuing Systems
B6: 1.1 | C6: ED staff (e.g., triage nurse, charge nurse) have visual line of sight to ambulance arrivals | D6: Universal
B7: 1.2 | C7: A specific area of the ED is dedicated to offloading patients arriving via ambulance (e.g., stretchers, reclining chairs) | D7: Universal
B8: 1.3 | C8: Patients are offloaded to non-stretcher care spaces (e.g., waiting room, reclining chair) where appropriate | D8: Universal
B9: Enhancing Staffing, Resource Allocation and Models of Care
B10: 1.4 | C10: Data has been used to ensure ambulance triage and ambulance offload spaces are staffed according to peak arrival patterns and volumes | D10: Universal
B11: 1.5 | C11: A nurse(s) (or other eligible health care professional) is identified each shift who has the primary responsibility of: -Triaging ambulance arrivals -offloading patients that arrive by ambulance -nursing care of patients who have been offloaded AND standard work has been documented related to these responsibilities | D11: Universal
B12: 1.6 | C12: The nurse(s) with primary responsibilities outlined in 1.5 is a protected role in the shift assignment | D12: Universal
B13: 1.7 | C13: A n escalation policy is in place to reallocate ED staffing during an influx/surge in patients arriving via ambulance | D13: Universal | M13: Advanced
B14: Leveraging Technology | I14: Column1 | J14: Universal | K14: Intermediate | L14: Column2 | M14: =COUNTIFS(D6:D32,"=Advanced",E6:E32,"=Achieved") -> 0
B15: 1.8 | C15: The electronic health record is optimized to ensure accurate capture of ambulance arrival and transfer of care times | D15: Universal | I15: Achieved | J15: =COUNTIFS(D6:D32,"=Universal",E6:E32,"=Achieved") -> 0 | K15: =COUNTIFS(D6:D32,"=Intermediate",E6:E32,"=Achieved") -> 0 | M15: =COUNTIFS(D6:D32,"=Advanced",E6:E32,"=In Progress") -> 0
B16: 1.9 | C16: A flag exists on the electronic health record to alert users that the target for ambulance offload time is approaching and exceeding | D16: Intermediate | I16: In Progress | J16: =COUNTIFS(D6:D32,"=Universal",E6:E32,"=In Progress") -> 0 | K16: =COUNTIFS(D6:D32,"=Intermediate",E6:E32,"=In Progress") -> 0 | M16: =COUNTIFS(D6:D32,"=Advanced",E6:E32,"=Opportunity for Improvement") -> 0
B17: 1.1 | C17: Work with local ambulance services to share real -time data and technology | D17: Intermediate | I17: Opportunity for Improvement | J17: =COUNTIFS(D6:D32,"=Universal",E6:E32,"=Opportunity for Improvement") -> 0 | K17: =COUNTIFS(D6:D32,"=Intermediate",E6:E32,"=Opportunity for Improvement") -> 0
B18: 1.11 | C18: The Patient Distribution System (PDS) is used to monitor and prepare for incoming ambulances | D18: Advanced
B19: 1.12 | C19: Technology is used to streamline the transfer of the Ambulance Call Report (ACR) to the ED | D19: Advanced
B20: Using Standardized Policies, Processes and Procedures
B21: 1.13 | C21: A standard operating procedure is in place to outline the triage process and ensure consistency in the assessment and process for all patients regardless of mode of arrival | D21: Universal
B22: 1.14 | C22: A process is in place to ensure that triage of patients arriving via ambulance, and offloading of patients, is prioritized within the ED | D22: Universal
B23: 1.15 | C23: Registration of patients is not a bottleneck to patient offload and paramedics are not expected to register patients or wait for charts | D23: Universal
B24: 1.16 | C24: Standardized messaging has been given staff regarding the importance of offloading patients arriving by ambulance and reducing AOT | D24: Universal
B25: 1.17 | C25: A process is in place that outlines how patients are continuously flowed from the designated offload space to next available care space in the ED to ensure ongoing availability of offload spaces | D25: Universal
B26: 1.18 | C26: A target time of 30 minutes or less is in place for ambulance offload and a policy is available for escalation when the target is not met | D26: Universal
B27: 1.19 | C27: A process is in place with local paramedic services where the patients, as appropriate, will be moved from a stretcher to wheelchair upon arrival at the hospital and patient movement will be facilitated by ED staff | D27: Universal
B28: 1.2 | C28: The Transfer of Care (TOC) process between paramedics and ED staff is streamlined to minimize the need for secondary reports where appropriate | D28: Universal
B29: 1.21 | C29: ED and EMS leadership table is in place with regularly scheduled meetings/touchpoints | D29: Universal
B30: 1.22 | C30: Paramedic and nursing staff have a process to ensure the transfer of care time documented at the hospital level and by paramedic services is the same | D30: Universal
B31: 1.23 | C31: An escalation policy/process developed with EMS is in place to address when paramedic services are nearing Code Zero and have limited ambulances available in the community | D31: Universal
B32: 1.24 | C32: Fit-to-Sit Program is in place | D32: Intermediate

Sheet 2. Triage & Registration
B2: 2. Triage & Registration
B4: # | C4: Strategy | D4: Category | E4: Achieved, In Progress or Opportunity for Improvement | F4: Action Planning | G4: Timelines What are the associated timelines for meeting the key activities to achieve the strategy?
B5: Optimizing Physical Space Design and Queuing Systems | J5: Universal | K5: Intermediate | L5: Advanced
B6: 2.1 | C6: ED staff (e.g., triage nurse, charge nurse) have visual line of sight to walk-in and ambulance arrivals | D6: Universal | I6: Achieved | J6: =COUNTIFS(D6:D29,"=Universal",E6:E29,"=Achieved") -> 0 | K6: =COUNTIFS(D6:D29,"=Intermediate",E6:E29,"=Achieved") -> 0 | L6: =COUNTIFS(D6:D29,"=Advanced",E6:E29,"=Achieved") -> 0
B7: 2.2 | C7: Triage and registration spaces are close in proximity so processes can occur in parallel or in as close sequence to each other as possible | D7: Universal | I7: In Progress | J7: =COUNTIFS(D6:D29,"=Universal",E6:E29,"=In Progress") -> 0 | K7: =COUNTIFS(D6:D29,"=Intermediate",E6:E29,"=In Progress") -> 0 | L7: =COUNTIFS(D6:D29,"=Advanced",E6:E29,"=In Progresss") -> 0
B8: 2.3 | C8: Triage and registration spaces are equipped and stocked with all necessary tools required for these processes | D8: Universal | I8: Opportunity for Improvement | J8: =COUNTIFS(D6:D29,"=Universal",E6:E29,"=Opportunity for Improvement") -> 0 | K8: =COUNTIFS(D6:D29,"=Intermediate",E6:E29,"=Opportunity for Improvement") -> 0 | L8: =COUNTIFS(D6:D29,"=Advanced",E6:E29,"=Opportunity for Improvement") -> 0
B9: 2.4 | C9: Triage is staffed according to peak arrival patterns based on historical data | D9: Universal
B10: Enhancing Staffing, Resource Allocation and Models of Care
B11: 2.5 | C11: All nurses assigned to triage have completed initial CTAS participant course and receive regular re-education | D11: Universal
B12: 2.6 | C12: All nurses assigned to triage are provided with site-specific education with respect to the triage process in relation to ED flow in the local context | D12: Universal
B13: 2.7 | C13: A policy outlines how triage staff are reallocated to respond to surges in patients arriving to the ED (e.g., additional triage nurse) | D13: Universal
B14: 2.8 | C14: A “nurse first” approach is in place where patients are greeted by nursing staff immediately upon arrival (prior to waiting for triage) to identify potential high-acuity patients that should be prioritized for triage and/or to streamline patients to a specific care area in the ED | D14: Intermediate
B15: 2.9 | C15: Volunteers or waiting room attendants provide information and comfort services (e.g., warm blankets) in the waiting room to improve the patient experience, minimize interruptions at triage and reduce non-clinical work from triage nurses | D15: Intermediate
B16: 2.1 | C16: A staff member other than the triage nurse performs procedures and treatments ordered by medical directives (e.g., non-triage nurse, phlebotomist) | D16: Intermediate
B17: 2.11 | C17: Regulated health professionals in addition to nursing staff (e.g., Registered Respiratory Therapists) are included as implementers in medical directives for the ED | D17: Intermediate
B18: Leveraging Technology
B19: 2.12 | C19: eCTAS is used to triage patients upon arrival to ED | D19: Universal
B20: 2.13 | C20: All nurses assigned to triage have completed initial and ongoing eCTAS education (e.g., new update) | D20: Universal
B21: 2.14 | C21: A self-check-in kiosk for walk-in patients arriving to the ED is used to enter demographic information and presenting complaint so triage nurses can identify and prioritize patients for triage | D21: Advanced
B22: Using Standardized Policies, Processes and Procedures
B23: 2.15 | C23: A standard operating procedure outlining the triage process in the ED is in place | D23: Universal
B24: 2.16 | C24: Canadian Triage and Acuity Scale (CTAS) guidelines are used to triage patients arriving to the ED | D24: Universal
B25: 2.17 | C25: Medical directives are in place and implemented after triage and before physician initial assessment | D25: Universal
B26: 2.18 | C26: Mandatory information and data required to determine a CTAS level (e.g., demographics, CEDIS complaint) is balanced with additional screening and or/documentation (e.g., IPAC screening, medication reconciliation) | D26: Universal
B27: 2.19 | C27: Reference material related to the triage process are available at the triage desk including: -Vital signs ranges -Commonly used screening tools (i.e., Pediatric Respiratory Assessment Measure) | D27: Universal
B28: 2.2 | C28: A process is in place for triage to occur in conjunction with registration or as soon as possible after triage has occurred | D28: Universal
B29: 2.21 | C29: Patient and/or caregiver receives information regarding the ED visit including key processes that may occur during the visit, normal wait times for tests and results, information regarding lengths of stay, and who to contact if condition changes | D29: Universal

Sheet 3. Physician Initial Assessment
B2: 3. Physician Initial Assessment
B4: # | C4: Strategy | D4: Category | E4: Achieved, In Progress or Opportunity for Improvement | F4: Action Planning | G4: Timelines What are the associated timelines for meeting the key activities to achieve the strategy?
B5: Optimizing Physical Space Design and Queuing Systems
B6: 3.1 | C6: The ED space is optimized to create capacity for patient assessment including stretchers and other non-traditional spaces (e.g., traditional chairs, reclining chairs) | D6: Universal | K6: Universal | L6: Intermediate | M6: Advanced
B7: 3.2 | C7: Patients are streamlined to designated areas of the ED based on acuity and/or presentation (e.g., fast track zone, rapid assessment zone) | D7: Universal | J7: Achieved | K7: =COUNTIFS(D6:D30,"=Universal",E6:E30,"=Achieved") -> 0 | L7: =COUNTIFS(D6:D30,"=Intermediate",E6:E30,"=Achieved") -> 0 | M7: =COUNTIFS(D6:D30,"=Advanced",E6:E30,"=Achieved") -> 0
B8: 3.3 | C8: An area of the waiting room is designated for patient assessment and privacy is maintained using privacy screens or physical barriers | D8: Intermediate | J8: In Progress | K8: =COUNTIFS(D6:D30,"=Universal",E6:E30,"=In Progress") -> 0 | L8: =COUNTIFS(D6:D30,"=Intermediate",E6:E30,"=In Progress") -> 0 | M8: =COUNTIFS(D6:D30,"=Advanced",E6:E30,"=In Progress") -> 0
B9: 3.4 | C9: Transitional spaces and/or discharge lounges are available for patients that are discharged from the ED and awaiting transport to next destination (e.g., home) | D9: Intermediate | J9: Opportunity for Improvement | K9: =COUNTIFS(D6:D30,"=Universal",E6:E30,"=Opportunity for Improvement") -> 0 | L9: =COUNTIFS(D6:D30,"=Intermediate",E6:E30,"=Opportunity for Improvement") -> 0 | M9: =COUNTIFS(D6:D30,"=Advanced",E6:E30,"=Opportunity for Improvement") -> 0
B10: Enhancing Staffing, Resource Allocation and Models of Care
B11: 3.5 | C11: Physician schedule is developed according to peak patient arrival patterns based on historical data | D11: Universal
B12: 3.6 | C12: A structured framework is in place for daily physician assignment in the department | D12: Universal
B13: 3.7 | C13: For sites that use an on-call model, criteria and processes for activation are available | D13: Intermediate
B14: 3.8 | C14: A provider is at triage 24/7 (or according to daily peak volumes if unable to staff 24/7) to assess and treat patients as they present at triage | D14: Intermediate
B15: 3.9 | C15: A triage assessment team model, composed of a provider (e.g., MD, NP, PA) and a nurse is in place to assess and treat patients immediately after triage | D15: Intermediate
B16: 3.1 | C16: NPs and/or PAs are implemented and practice to full scope as part of the ED team | D16: Intermediate
B17: 3.11 | C17: A physician navigator is used to flow patients into the department for physician assessment and offload non-clinical work from physicians | D17: Intermediate
B18: 3.12 | C18: Scribes are used to offload clerical work from physicians | D18: Intermediate
B19: 3.13 | C19: Physician-specific data is used to understand individual physician performance, efficiency and capacity and the physician schedule is optimized accordingly | D19: Advanced
B20: Leveraging Technology
B21: 3.14 | C21: Preference- and performance-based scheduling software and/or statistical modelling to align physician capacity with patient arrivals | D21: Advanced
B22: 3.15 | C22: Artificial intelligence (AI), such as AI scribes, is integrated into physician workflows | D22: Advanced
B23: 3.16 | C23: Voice-to-text or speech recognition software is integrated in physician workflows | D23: Advanced
B24: Using Standardized Policies, Processes and Procedures
B25: 3.17 | C25: An established process is available to define how patients are assigned to ED physicians | D25: Universal
B26: 3.18 | C26: A process in place for turning over assessment spaces to ensure ongoing availability | D26: Universal
B27: 3.19 | C27: The process of direct bedding is used where patients are placed into the next available bed immediately following triage | D27: Universal
B28: 3.2 | C28: When direct bedding is not feasible, a process is in place that outlines how and by whom patients are moved into available care spaces | D28: Universal
B29: 3.21 | C29: Documentation practices for physician have been reviewed and streamlined and/or reduced as appropriate (i.e., through EMR optimization) | D29: Universal
B30: 3.22 | C30: Order sets for select clinical conditions (e.g., hip fractures, STEMI) are available | D30: Universal

Sheet 4. Lab, DI & Consults
B2: 4. Laboratory Services, Diagnostic Imaging & Consultation Services
B3: # | C3: Strategy | D3: Category | E3: Achieved, In Progress or Opportunity for Improvement | F3: Action Planning | G3: Timelines What are the associated timelines for meeting the key activities to achieve the strategy? | K3: Universal | L3: Intermediate | M3: Advanced
B4: Optimizing Physical Space Design and Queuing Systems | J4: Achieved | K4: =COUNTIFS(D5:D29,"=Universal",E5:E29,"Achieved") -> 0 | L4: =COUNTIFS(D5:D29,"=Intermediate",E5:E29,"Achieved") -> 0 | M4: =COUNTIFS(D5:D29,"=Advanced",E5:E29,"Achieved") -> 0
B5: 4.1 | C5: The layout and location of resources within the ED related to laboratory testing is optimized to ensure resources are readily available in the areas where blood draws occur | D5: Universal | J5: In Progress | K5: =COUNTIFS(D5:D29,"=Universal",E5:E29,"In Progress") -> 0 | L5: =COUNTIFS(D5:D29,"=Intermediate",E5:E29,"In Progress") -> 0 | M5: =COUNTIFS(D5:D29,"=Advanced",E5:E29,"In Progress") -> 0
B6: 4.2 | C6: Wayfinding in the ED is available to ensure ambulatory patients can self-porter to diagnostic imaging services where appropriate | D6: Universal | J6: Opportunity for Improvement | K6: =COUNTIFS(D5:D29,"=Universal",E5:E29,"Opportunity for Improvement") -> 0 | L6: =COUNTIFS(D5:D29,"=Intermediate",E5:E29,"Opportunity for Improvement") -> 0 | M6: =COUNTIFS(D5:D29,"=Advanced",E5:E29,"Opportunity for Improvement") -> 0
B7: 4.3 | C7: Dedicated space in the ED is available for consulting services to review charts, document and complete order-entry | D7: Universal
B8: Enhancing Staffing, Resource Allocation and Models of Care
B9: 4.4 | C9: Medicine trainees who consult in the ED have been provided education on the rationale behind reducing ED wait times and patient safety considerations in relation to ED overcrowding and length of time spent in the ED | D9: Universal
B10: 4.5 | C10: Phlebotomists are dedicated in the ED 24/7 or according to peak volumes | D10: Intermediate
B11: 4.6 | C11: ED radiologist hours are aligned to match patterns in diagnostic imaging requests | D11: Intermediate
B12: 4.7 | C12: Laboratory service hours (for sites without 24/ laboratory capacity) are aligned to match peak volumes | D12: Intermediate
B13: 4.8 | C13: Diagnostic imaging staffing hours are aligned to match patterns in diagnostic imaging demand request | D13: Intermediate
B14: 4.9 | C14: A radiologist is dedicated for ED studies | D14: Advanced
B15: 4.1 | C15: For sites that are able to, dedicated consultation services are available in the ED for services with high rates of consultation requests (e.g., general medicine) | D15: Advanced
B16: Leveraging Technology
B17: 4.11 | C17: Virtual consultations are used where appropriate for services unavailable in-house | D17: Universal
B18: 4.12 | C18: Point-of-care testing is used in the ED for sites without 24/7 laboratory services | D18: Intermediate
B19: 4.13 | C19: Secure short messaging service (SMS) technology is used to liaise with consulting services | D19: Intermediate
B20: Using Standardized Policies, Processes and Procedures
B21: 4.14 | C21: Value stream mapping has been completed for all lab and diagnostic imaging processes to identify bottlenecks and reduce turn around times | D21: Universal
B22: 4.15 | C22: Standard work for dedicated ED phlebotomists is documented | D22: Universal
B23: 4.16 | C23: A protocol is in place to outline procedures for accessing laboratory services if the site does not have 24/7 or on-site lab availability | D23: Universal
B24: 4.17 | C24: Clinical decision support tools and other guidance/recommendations are available and used, where appropriate, to determine the need for diagnostic imaging and selecting the most applicable imaging | D24: Universal
B25: 4.18 | C25: A protocol is in place with diagnostic imaging services to streamline the process of imaging request to imaging completion, including surge protocols and dedicated leadership huddles | D25: Universal
B26: 4.19 | C26: A target has been established for consultation request to admission order entry and personalized feedback for individual admitting providers is available and reviewed | D26: Universal
B27: 4.2 | C27: A process for consulting services in the ED with documented standards of work, expected response times and escalation pathways for delays in response times is available | D27: Universal
B28: 4.21 | C28: Standard admission order sets for selected diagnoses are available for consultants | D28: Universal
B29: 4.22 | C29: Time to admission decision by residents is evaluated and strategies are implemented to reduce delays | D29: Universal

Sheet 5. Time Spent in ED
B2: 5. Time Spent in the ED for Non-Admitted and Admitted Patients
B4: # | C4: Strategy | D4: Category | E4: Achieved, In Progress or Opportunity for Improvement | F4: Action Planning | G4: Timelines What are the associated timelines for meeting the strategy?
B5: Time Spent in the ED for Non-Admitted Patients | J5: Universal | K5: Intermediate | L5: Advanced
B6: Optimizing Physical Space Design and Queuing Systems | I6: Achieved | J6: =COUNTIFS(D7:D55,"=Universal",E7:E55,"=Achieved") -> 0 | K6: =COUNTIFS(D7:D55,"=Intermediate",E7:E55,"=Achieved") -> 0 | L6: =COUNTIFS(D7:D55,"=Advanced",E7:E55,"=Achieved") -> 0
B7: 5.1 | C7: Non-stretcher care spaces are used to provide care for patients where appropriate (e.g., reclining chairs) | D7: Universal | I7: In Progress | J7: =COUNTIFS(D7:D55,"=Universal",E7:E55,"=In Progress") -> 0 | K7: =COUNTIFS(D7:D55,"=Intermediate",E7:E55,"=In Progress") -> 0 | L7: =COUNTIFS(D7:D55,"=Advanced",E7:E55,"=In Progress") -> 0
B8: 5.2 | C8: A zone is designated in the ED for lower acuity patients who are likely to remain ambulatory and are unlikely to require more acute care in the ED, inpatient or other health care services (e.g. Rapid Assessment Zones or Fast Track Systems). | D8: Universal | I8: Opportunity for Improvement | J8: =COUNTIFS(D7:D55,"=Universal",E7:E55,"=Opportunity for Improvement") -> 0 | K8: =COUNTIFS(D7:D55,"=Intermediate",E7:E55,"=Opportunity for Improvement") -> 0 | L8: =COUNTIFS(D7:D55,"=Advanced",E7:E55,"=Opportunity for Improvement") -> 0
B9: 5.3 | C9: Internal waiting rooms are used in the ED where patients can wait for results and/or reassessment as opposed to waiting in a designated care space | D9: Universal
B10: 5.4 | C10: Care spaces are workspaces are organized with appropriate stock and ergonomic structures to minimize the time spend between steps for patient care. | D10: Universal
B11: 5.5 | C11: Transitional spaces and discharge lounges for patients discharged from ED, awaiting transport to their next destination (e.g., home), to increase availability of assessment and care spaces for new patients | D11: Intermediate
B12: 5.6 | C12: Areas outside and/or adjacent to the ED are used for patient care when those spaces are not being used for their intended purpose (i.e., use fracture clinic space in off-hours to care for ED patients) | D12: Intermediate
B13: Enhancing Staffing, Resource Allocation and Models of Care
B14: 5.7 | C14: Staffing levels for all team members are aligned to daily patient arrival patterns based on historical data | D14: Universal
B15: 5.8 | C15: All nursing staff are able to function in multiple areas of the ED to allow seamless reallocation of staff throughout the department to respond to changes in patient volumes and acuity | D15: Universal
B16: 5.9 | C16: A staff member, per shift, is designated as resource person/team lead/charge nurse and has documented responsibilities related to ED throughput | D16: Universal
B17: 5.1 | C17: A staff member on the ED team, per shift, is designated as responsible for ensuring the continuous flow of patients through the ED (this may be team leader/charge nurse or another dedicated staff member) and standard work is documented | D17: Universal
B18: 5.11 | C18: A dedicated porter for ED moves patients through and out of the ED | D18: Intermediate
B19: 5.12 | C19: Dedicated facilities services for ED prepares care spaces in the ED for incoming patients | D19: Intermediate
B20: 5.13 | C20: Allied health members are available in the ED to support discharges home and into the community where appropriate (e.g., GEM nurse, home and community care, Hospital at Home coordinator, crisis support workers) | D20: Intermediate
B21: Leveraging Technology
B22: 5.14 | C22: An ED tracking board is available to monitor real-time data including: -number of patients in the department -status of each patient -outstanding tests/orders to be completed -patients awaiting reassessment -patients awaiting discharge | D22: Intermediate
B23: 5.15 | C23: Technology that monitors, in real-time, flow through the ED and notifies staff of bottlenecks to flow is available | D23: Advanced
B24: Using Standardized Policies, Processes and Procedures
B25: 5.16 | C25: An ED-specific surge policy that outlines the processes to efficiently manage and support patient care, safety and throughput in the ED is available | D25: Universal
B26: 5.17 | C26: Establish a hospital-wide surge policy to be activated in the event of ED surge, overcrowding and/or gridlock is available and includes -key hospital personnel and roles/responsibilities for each -communication pathways -escalation triggers and levels of escalation (which may include external partners) -actions and standard work for each level of escalation -surge recovery | D26: Universal
B27: 5.18 | C27: Documentation practices are streamlined to ensure ideal efficiency in the time it takes to complete clinical documentation and maximize time spent with patients | D27: Universal
B28: 5.19 | C28: A process is in place to alert providers of patients that have had all tests completed, results are available and are ready for reassessment (e.g., a flag on the patient’s chart or within the EHR) | D28: Universal
B29: 5.2 | C29: Standard discharge checklists are used to streamline the discharge process | D29: Universal
B30: 5.21 | C30: A standard process is in place to continuously reassess stable patients and reallocate space and staffing resources to maintain continuous flow through the department | D30: Universal
B31: 5.22 | C31: A policy and/or process is in place, in collaboration with paramedic services, for the interfacility transport of patients requiring urgent/emergent transportation to reduce the time patients spend waiting for transport and optimize the use of nursing staff who are required for escort in these processes | D31: Universal
B32: 5.23 | C32: Processes for specific patient populations with a defined presentation are in place to streamline specialist consultations within the hospital (e.g., patients presenting with early pregnancy complications) | D32: Intermediate
B33: 5.24 | C33: A process is in place to refer patients to a rapid access clinic and/or outpatient specialist consultation in a short time frame to reduce the amount of time waiting to see in-house specialists and avoid admissions for appropriate clinical presentations | D33: Intermediate
B34: 5.25 | C34: Partnerships are established with non-urgent transportation services to streamline the transport of patients who are returning home/community/long-term care etc. | D34: Intermediate
B35: Time Spent in the ED for Admitted Patients
B36: Optimizing Physical Space Design and Queuing Systems
B37: 5.26 | C37: Transitional spaces and discharge lounges for patients that are discharged from inpatient units and awaiting transport to next destination are in place (e.g., home) | D37: Intermediate
B38: 5.27 | C38: Short-stay units are used to transfer admitted patients to until a traditional inpatient bed becomes available | D38: Intermediate
B39: Enhancing Staffing, Resource Allocation and Models of Care
B40: 5.28 | C40: A hospital patient flow team is available with defined roles/responsibilities and documented accountabilities related to hospital and ED flow | D40: Universal
B41: 5.29 | C41: A member of the ED team is designated as the point-of-contact with the hospital patient flow team to liaise with the team 24/7 | D41: Universal
B42: 5.3 | C42: Dedicated portering services are available to transport admitted patients in the ED to inpatient units | D42: Intermediate
...

Sheet Attestation
B2: Attestation
B4: I, the undersigned, hereby attest that the information provided in this document is true and accurate.
B13: X | H13: X
B14: Chief Executive Officer Name | H14: Chief Executive Officer Signature | N14: Date
